BEGIN:VCALENDAR
VERSION:2.0
PRODID:-//My Calendar//http://www.joedolson.com//v3.1.13//EN
METHOD:PUBLISH
CALSCALE:GREGORIAN
X-WR-CALNAME:Central Rice Research Institute
X-PUBLISHED-TTL:PT24H
REFRESH-INTERVAL;VALUE=DURATION:PT24H
X-WR-CALDESC:Events from Central Rice Research Institute
BEGIN:VEVENT
UID:60-59
LOCATION:
SUMMARY:Christmas Evening
DTSTAMP:20191224T000000
ORGANIZER;CN=crriadmin:MAILTO:info@p9v.in
DTSTART;TZID=Etc/GMT-5.5:20191224T000000
DTEND;TZID=Etc/GMT-5.5:20191225T000000
URL;VALUE=URI:https://icar-crri.in/my-calendar/
DESCRIPTION:Christmas Evening 
CATEGORIES:Restricted Holidays 
X-FUNAMBOL-ALLDAY: 1
X-MICROSOFT-CDO-ALLDAYEVENT: TRUE

END:VEVENT
BEGIN:VEVENT
UID:59-58
LOCATION:
SUMMARY:Guru Teg Bahadur's Martyrdom Day
DTSTAMP:20191124T000000
ORGANIZER;CN=crriadmin:MAILTO:info@p9v.in
DTSTART;TZID=Etc/GMT-5.5:20191124T000000
DTEND;TZID=Etc/GMT-5.5:20191125T000000
URL;VALUE=URI:https://icar-crri.in/my-calendar/
DESCRIPTION:Guru Teg Bahadur's Martyrdom Day 
CATEGORIES:Closed Holidays
X-FUNAMBOL-ALLDAY: 1
X-MICROSOFT-CDO-ALLDAYEVENT: TRUE

END:VEVENT
BEGIN:VEVENT
UID:58-57
LOCATION:
SUMMARY:Chhat Puja
DTSTAMP:20191102T000000
ORGANIZER;CN=crriadmin:MAILTO:info@p9v.in
DTSTART;TZID=Etc/GMT-5.5:20191102T000000
DTEND;TZID=Etc/GMT-5.5:20191103T000000
URL;VALUE=URI:https://icar-crri.in/my-calendar/
DESCRIPTION:Chhat Puja 
CATEGORIES:Closed Holidays
X-FUNAMBOL-ALLDAY: 1
X-MICROSOFT-CDO-ALLDAYEVENT: TRUE

END:VEVENT
BEGIN:VEVENT
UID:57-56
LOCATION:
SUMMARY:Bhai Duj
DTSTAMP:20191029T000000
ORGANIZER;CN=crriadmin:MAILTO:info@p9v.in
DTSTART;TZID=Etc/GMT-5.5:20191029T000000
DTEND;TZID=Etc/GMT-5.5:20191030T000000
URL;VALUE=URI:https://icar-crri.in/my-calendar/
DESCRIPTION:Bhai Duj 
CATEGORIES:Closed Holidays
X-FUNAMBOL-ALLDAY: 1
X-MICROSOFT-CDO-ALLDAYEVENT: TRUE

END:VEVENT
BEGIN:VEVENT
UID:56-55
LOCATION:
SUMMARY:Govardhan Puja
DTSTAMP:20191028T000000
ORGANIZER;CN=crriadmin:MAILTO:info@p9v.in
DTSTART;TZID=Etc/GMT-5.5:20191028T000000
DTEND;TZID=Etc/GMT-5.5:20191029T000000
URL;VALUE=URI:https://icar-crri.in/my-calendar/
DESCRIPTION:Govardhan Puja 
CATEGORIES:Closed Holidays
X-FUNAMBOL-ALLDAY: 1
X-MICROSOFT-CDO-ALLDAYEVENT: TRUE

END:VEVENT
BEGIN:VEVENT
UID:55-54
LOCATION:
SUMMARY:Narak Chaturdasi
DTSTAMP:20191027T000000
ORGANIZER;CN=crriadmin:MAILTO:info@p9v.in
DTSTART;TZID=Etc/GMT-5.5:20191027T000000
DTEND;TZID=Etc/GMT-5.5:20191028T000000
URL;VALUE=URI:https://icar-crri.in/my-calendar/
DESCRIPTION:Narak Chaturdasi 
CATEGORIES:Closed Holidays
X-FUNAMBOL-ALLDAY: 1
X-MICROSOFT-CDO-ALLDAYEVENT: TRUE

END:VEVENT
BEGIN:VEVENT
UID:54-53
LOCATION:
SUMMARY:Karaka Chaturthi (Karva Chouth)
DTSTAMP:20191017T000000
ORGANIZER;CN=crriadmin:MAILTO:info@p9v.in
DTSTART;TZID=Etc/GMT-5.5:20191017T000000
DTEND;TZID=Etc/GMT-5.5:20191018T000000
URL;VALUE=URI:https://icar-crri.in/my-calendar/
DESCRIPTION: 
CATEGORIES:Closed Holidays
X-FUNAMBOL-ALLDAY: 1
X-MICROSOFT-CDO-ALLDAYEVENT: TRUE

END:VEVENT
BEGIN:VEVENT
UID:53-52
LOCATION:
SUMMARY:Maharshi Valmiki's Birthday
DTSTAMP:20191013T000000
ORGANIZER;CN=crriadmin:MAILTO:info@p9v.in
DTSTART;TZID=Etc/GMT-5.5:20191013T000000
DTEND;TZID=Etc/GMT-5.5:20191014T000000
URL;VALUE=URI:https://icar-crri.in/my-calendar/
DESCRIPTION:Maharshi Valmiki's Birthday 
CATEGORIES:Closed Holidays
X-FUNAMBOL-ALLDAY: 1
X-MICROSOFT-CDO-ALLDAYEVENT: TRUE

END:VEVENT
BEGIN:VEVENT
UID:52-51
LOCATION:
SUMMARY:Dusshera Maha Navami
DTSTAMP:20191007T000000
ORGANIZER;CN=crriadmin:MAILTO:info@p9v.in
DTSTART;TZID=Etc/GMT-5.5:20191007T000000
DTEND;TZID=Etc/GMT-5.5:20191008T000000
URL;VALUE=URI:https://icar-crri.in/my-calendar/
DESCRIPTION:Dusshera Maha Navami 
CATEGORIES:Closed Holidays
X-FUNAMBOL-ALLDAY: 1
X-MICROSOFT-CDO-ALLDAYEVENT: TRUE

END:VEVENT
BEGIN:VEVENT
UID:51-50
LOCATION:
SUMMARY:Dusshera Maha Ashtami
DTSTAMP:20191006T000000
ORGANIZER;CN=crriadmin:MAILTO:info@p9v.in
DTSTART;TZID=Etc/GMT-5.5:20191006T000000
DTEND;TZID=Etc/GMT-5.5:20191007T000000
URL;VALUE=URI:https://icar-crri.in/my-calendar/
DESCRIPTION:Dusshera Maha Ashtami 
CATEGORIES:Closed Holidays
X-FUNAMBOL-ALLDAY: 1
X-MICROSOFT-CDO-ALLDAYEVENT: TRUE

END:VEVENT
BEGIN:VEVENT
UID:50-49
LOCATION:
SUMMARY:Dusshera Maha Saptami
DTSTAMP:20191005T000000
ORGANIZER;CN=crriadmin:MAILTO:info@p9v.in
DTSTART;TZID=Etc/GMT-5.5:20191005T000000
DTEND;TZID=Etc/GMT-5.5:20191006T000000
URL;VALUE=URI:https://icar-crri.in/my-calendar/
DESCRIPTION:Dusshera Maha Saptami 
CATEGORIES:Closed Holidays
X-FUNAMBOL-ALLDAY: 1
X-MICROSOFT-CDO-ALLDAYEVENT: TRUE

END:VEVENT
BEGIN:VEVENT
UID:49-48
LOCATION:
SUMMARY:Onam
DTSTAMP:20190911T000000
ORGANIZER;CN=crriadmin:MAILTO:info@p9v.in
DTSTART;TZID=Etc/GMT-5.5:20190911T000000
DTEND;TZID=Etc/GMT-5.5:20190912T000000
URL;VALUE=URI:https://icar-crri.in/my-calendar/
DESCRIPTION:Onam 
CATEGORIES:Closed Holidays
X-FUNAMBOL-ALLDAY: 1
X-MICROSOFT-CDO-ALLDAYEVENT: TRUE

END:VEVENT
BEGIN:VEVENT
UID:48-47
LOCATION:
SUMMARY:Ganesh Chaturthi
DTSTAMP:20190902T000000
ORGANIZER;CN=crriadmin:MAILTO:info@p9v.in
DTSTART;TZID=Etc/GMT-5.5:20190902T000000
DTEND;TZID=Etc/GMT-5.5:20190903T000000
URL;VALUE=URI:https://icar-crri.in/my-calendar/
DESCRIPTION:Ganesh Chaturthi 
CATEGORIES:Closed Holidays
X-FUNAMBOL-ALLDAY: 1
X-MICROSOFT-CDO-ALLDAYEVENT: TRUE

END:VEVENT
BEGIN:VEVENT
UID:47-46
LOCATION:
SUMMARY:Parsi New Year
DTSTAMP:20190817T000000
ORGANIZER;CN=crriadmin:MAILTO:info@p9v.in
DTSTART;TZID=Etc/GMT-5.5:20190817T000000
DTEND;TZID=Etc/GMT-5.5:20190818T000000
URL;VALUE=URI:https://icar-crri.in/my-calendar/
DESCRIPTION:Parsi New Year 
CATEGORIES:Closed Holidays
X-FUNAMBOL-ALLDAY: 1
X-MICROSOFT-CDO-ALLDAYEVENT: TRUE

END:VEVENT
BEGIN:VEVENT
UID:46-45
LOCATION:
SUMMARY:Raksha Bandhan
DTSTAMP:20190815T000000
ORGANIZER;CN=crriadmin:MAILTO:info@p9v.in
DTSTART;TZID=Etc/GMT-5.5:20190815T000000
DTEND;TZID=Etc/GMT-5.5:20190816T000000
URL;VALUE=URI:https://icar-crri.in/my-calendar/
DESCRIPTION:Raksha Bandhan 
CATEGORIES:Closed Holidays
X-FUNAMBOL-ALLDAY: 1
X-MICROSOFT-CDO-ALLDAYEVENT: TRUE

END:VEVENT
BEGIN:VEVENT
UID:45-44
LOCATION:
SUMMARY:Rath Yatra
DTSTAMP:20190704T000000
ORGANIZER;CN=crriadmin:MAILTO:info@p9v.in
DTSTART;TZID=Etc/GMT-5.5:20190704T000000
DTEND;TZID=Etc/GMT-5.5:20190705T000000
URL;VALUE=URI:https://icar-crri.in/my-calendar/
DESCRIPTION:Rath Yatra 
CATEGORIES:Closed Holidays
X-FUNAMBOL-ALLDAY: 1
X-MICROSOFT-CDO-ALLDAYEVENT: TRUE

END:VEVENT
BEGIN:VEVENT
UID:44-43
LOCATION:
SUMMARY:Jamat-Ul-Vida
DTSTAMP:20190531T000000
ORGANIZER;CN=crriadmin:MAILTO:info@p9v.in
DTSTART;TZID=Etc/GMT-5.5:20190531T000000
DTEND;TZID=Etc/GMT-5.5:20190601T000000
URL;VALUE=URI:https://icar-crri.in/my-calendar/
DESCRIPTION:Jamat-Ul-Vida 
CATEGORIES:Closed Holidays
X-FUNAMBOL-ALLDAY: 1
X-MICROSOFT-CDO-ALLDAYEVENT: TRUE

END:VEVENT
BEGIN:VEVENT
UID:43-42
LOCATION:
SUMMARY:Guru Rabindranath's Birthday
DTSTAMP:20190509T000000
ORGANIZER;CN=crriadmin:MAILTO:info@p9v.in
DTSTART;TZID=Etc/GMT-5.5:20190509T000000
DTEND;TZID=Etc/GMT-5.5:20190510T000000
URL;VALUE=URI:https://icar-crri.in/my-calendar/
DESCRIPTION:Guru Rabindranath's Birthday 
CATEGORIES:Closed Holidays
X-FUNAMBOL-ALLDAY: 1
X-MICROSOFT-CDO-ALLDAYEVENT: TRUE

END:VEVENT
BEGIN:VEVENT
UID:42-41
LOCATION:
SUMMARY:Ester Sunday
DTSTAMP:20190421T000000
ORGANIZER;CN=crriadmin:MAILTO:info@p9v.in
DTSTART;TZID=Etc/GMT-5.5:20190421T000000
DTEND;TZID=Etc/GMT-5.5:20190422T000000
URL;VALUE=URI:https://icar-crri.in/my-calendar/
DESCRIPTION:Ester Sunday 
CATEGORIES:Closed Holidays
X-FUNAMBOL-ALLDAY: 1
X-MICROSOFT-CDO-ALLDAYEVENT: TRUE

END:VEVENT
BEGIN:VEVENT
UID:41-40
LOCATION:
SUMMARY:Vaisakhadi/Bihu
DTSTAMP:20190415T000000
ORGANIZER;CN=crriadmin:MAILTO:info@p9v.in
DTSTART;TZID=Etc/GMT-5.5:20190415T000000
DTEND;TZID=Etc/GMT-5.5:20190416T000000
URL;VALUE=URI:https://icar-crri.in/my-calendar/
DESCRIPTION:Vaisakhadi/Bihu 
CATEGORIES:Closed Holidays
X-FUNAMBOL-ALLDAY: 1
X-MICROSOFT-CDO-ALLDAYEVENT: TRUE

END:VEVENT
BEGIN:VEVENT
UID:40-39
LOCATION:
SUMMARY:Vishu/Vaisakhi
DTSTAMP:20190414T000000
ORGANIZER;CN=crriadmin:MAILTO:info@p9v.in
DTSTART;TZID=Etc/GMT-5.5:20190414T000000
DTEND;TZID=Etc/GMT-5.5:20190415T000000
URL;VALUE=URI:https://icar-crri.in/my-calendar/
DESCRIPTION:Vishu/Vaisakhi 
CATEGORIES:Closed Holidays
X-FUNAMBOL-ALLDAY: 1
X-MICROSOFT-CDO-ALLDAYEVENT: TRUE

END:VEVENT
BEGIN:VEVENT
UID:39-38
LOCATION:
SUMMARY:Ram Navami
DTSTAMP:20190413T000000
ORGANIZER;CN=crriadmin:MAILTO:info@p9v.in
DTSTART;TZID=Etc/GMT-5.5:20190413T000000
DTEND;TZID=Etc/GMT-5.5:20190414T000000
URL;VALUE=URI:https://icar-crri.in/my-calendar/
DESCRIPTION:Ram Navami 
CATEGORIES:Closed Holidays
X-FUNAMBOL-ALLDAY: 1
X-MICROSOFT-CDO-ALLDAYEVENT: TRUE

END:VEVENT
BEGIN:VEVENT
UID:38-37
LOCATION:
SUMMARY:Chaitra Sukhladi/Ugadi/Gudi Parva/Cheti Chand
DTSTAMP:20190406T000000
ORGANIZER;CN=crriadmin:MAILTO:info@p9v.in
DTSTART;TZID=Etc/GMT-5.5:20190406T000000
DTEND;TZID=Etc/GMT-5.5:20190407T000000
URL;VALUE=URI:https://icar-crri.in/my-calendar/
DESCRIPTION:Chaitra Sukhladi/Ugadi/Gudi Parva/Cheti Chand 
CATEGORIES:Closed Holidays
X-FUNAMBOL-ALLDAY: 1
X-MICROSOFT-CDO-ALLDAYEVENT: TRUE

END:VEVENT
BEGIN:VEVENT
UID:37-36
LOCATION:
SUMMARY:Hazrat Ali's Birthday
DTSTAMP:20190321T000000
ORGANIZER;CN=crriadmin:MAILTO:info@p9v.in
DTSTART;TZID=Etc/GMT-5.5:20190321T000000
DTEND;TZID=Etc/GMT-5.5:20190322T000000
URL;VALUE=URI:https://icar-crri.in/my-calendar/
DESCRIPTION:Hazrat Ali's Birthday 
CATEGORIES:Closed Holidays
X-FUNAMBOL-ALLDAY: 1
X-MICROSOFT-CDO-ALLDAYEVENT: TRUE

END:VEVENT
BEGIN:VEVENT
UID:36-35
LOCATION:
SUMMARY:Dolyatra
DTSTAMP:20190321T000000
ORGANIZER;CN=crriadmin:MAILTO:info@p9v.in
DTSTART;TZID=Etc/GMT-5.5:20190321T000000
DTEND;TZID=Etc/GMT-5.5:20190322T000000
URL;VALUE=URI:https://icar-crri.in/my-calendar/
DESCRIPTION:Dolyatra 
CATEGORIES:Closed Holidays
X-FUNAMBOL-ALLDAY: 1
X-MICROSOFT-CDO-ALLDAYEVENT: TRUE

END:VEVENT
BEGIN:VEVENT
UID:35-34
LOCATION:
SUMMARY:Holika Dahan
DTSTAMP:20190320T000000
ORGANIZER;CN=crriadmin:MAILTO:info@p9v.in
DTSTART;TZID=Etc/GMT-5.5:20190320T000000
DTEND;TZID=Etc/GMT-5.5:20190321T000000
URL;VALUE=URI:https://icar-crri.in/my-calendar/
DESCRIPTION:Holika Dahan 
CATEGORIES:Closed Holidays
X-FUNAMBOL-ALLDAY: 1
X-MICROSOFT-CDO-ALLDAYEVENT: TRUE

END:VEVENT
BEGIN:VEVENT
UID:34-33
LOCATION:
SUMMARY:Dayanand Saraswati Birthday
DTSTAMP:20190301T000000
ORGANIZER;CN=crriadmin:MAILTO:info@p9v.in
DTSTART;TZID=Etc/GMT-5.5:20190301T000000
DTEND;TZID=Etc/GMT-5.5:20190302T000000
URL;VALUE=URI:https://icar-crri.in/my-calendar/
DESCRIPTION:Dayanand Saraswati Birthday 
CATEGORIES:Closed Holidays
X-FUNAMBOL-ALLDAY: 1
X-MICROSOFT-CDO-ALLDAYEVENT: TRUE

END:VEVENT
BEGIN:VEVENT
UID:33-32
LOCATION:
SUMMARY:Shivaji Jayanti
DTSTAMP:20190219T000000
ORGANIZER;CN=crriadmin:MAILTO:info@p9v.in
DTSTART;TZID=Etc/GMT-5.5:20190219T000000
DTEND;TZID=Etc/GMT-5.5:20190220T000000
URL;VALUE=URI:https://icar-crri.in/my-calendar/
DESCRIPTION:Shivaji Jayanti 
CATEGORIES:Closed Holidays
X-FUNAMBOL-ALLDAY: 1
X-MICROSOFT-CDO-ALLDAYEVENT: TRUE

END:VEVENT
BEGIN:VEVENT
UID:32-31
LOCATION:
SUMMARY:Guru Ravidas's Birthday
DTSTAMP:20190219T000000
ORGANIZER;CN=crriadmin:MAILTO:info@p9v.in
DTSTART;TZID=Etc/GMT-5.5:20190219T000000
DTEND;TZID=Etc/GMT-5.5:20190220T000000
URL;VALUE=URI:https://icar-crri.in/my-calendar/
DESCRIPTION:Guru Ravidas's Birthday 
CATEGORIES:Closed Holidays
X-FUNAMBOL-ALLDAY: 1
X-MICROSOFT-CDO-ALLDAYEVENT: TRUE

END:VEVENT
BEGIN:VEVENT
UID:31-30
LOCATION:
SUMMARY:Basant Panchami
DTSTAMP:20190210T000000
ORGANIZER;CN=crriadmin:MAILTO:info@p9v.in
DTSTART;TZID=Etc/GMT-5.5:20190210T000000
DTEND;TZID=Etc/GMT-5.5:20190211T000000
URL;VALUE=URI:https://icar-crri.in/my-calendar/
DESCRIPTION:Basant Panchami 
CATEGORIES:Closed Holidays
X-FUNAMBOL-ALLDAY: 1
X-MICROSOFT-CDO-ALLDAYEVENT: TRUE

END:VEVENT
END:VCALENDAR